BEGIN:VCALENDAR
VERSION:2.0
PRODID:-//IT-Training.pro - ECPv6.15.20//NONSGML v1.0//EN
CALSCALE:GREGORIAN
METHOD:PUBLISH
X-ORIGINAL-URL:https://www.it-training.bg
X-WR-CALDESC:Events for IT-Training.pro
REFRESH-INTERVAL;VALUE=DURATION:PT1H
X-Robots-Tag:noindex
X-PUBLISHED-TTL:PT1H
BEGIN:VTIMEZONE
TZID:Europe/Sofia
BEGIN:DAYLIGHT
TZOFFSETFROM:+0200
TZOFFSETTO:+0300
TZNAME:EEST
DTSTART:20210328T010000
END:DAYLIGHT
BEGIN:STANDARD
TZOFFSETFROM:+0300
TZOFFSETTO:+0200
TZNAME:EET
DTSTART:20211031T010000
END:STANDARD
BEGIN:DAYLIGHT
TZOFFSETFROM:+0200
TZOFFSETTO:+0300
TZNAME:EEST
DTSTART:20220327T010000
END:DAYLIGHT
BEGIN:STANDARD
TZOFFSETFROM:+0300
TZOFFSETTO:+0200
TZNAME:EET
DTSTART:20221030T010000
END:STANDARD
BEGIN:DAYLIGHT
TZOFFSETFROM:+0200
TZOFFSETTO:+0300
TZNAME:EEST
DTSTART:20230326T010000
END:DAYLIGHT
BEGIN:STANDARD
TZOFFSETFROM:+0300
TZOFFSETTO:+0200
TZNAME:EET
DTSTART:20231029T010000
END:STANDARD
BEGIN:DAYLIGHT
TZOFFSETFROM:+0200
TZOFFSETTO:+0300
TZNAME:EEST
DTSTART:20240331T010000
END:DAYLIGHT
BEGIN:STANDARD
TZOFFSETFROM:+0300
TZOFFSETTO:+0200
TZNAME:EET
DTSTART:20241027T010000
END:STANDARD
END:VTIMEZONE
BEGIN:VEVENT
DTSTART;TZID=Europe/Sofia:20230614T090000
DTEND;TZID=Europe/Sofia:20230616T170000
DTSTAMP:20260421T113924
CREATED:20220725T094140Z
LAST-MODIFIED:20221220T134713Z
UID:60288-1686733200-1686934800@www.it-training.bg
SUMMARY:ITIL® 4 Strategist Direct Plan and Improve (DPI)
DESCRIPTION:ITIL® 4 Strategist Direct Plan and Improve (DPI)\nITIL® is a registered trademark of AXELOS Limited\, used under permission of AXELOS Limited. The Swirl logo™ is a trademark of AXELOS Limited\, used under permission of AXELOS Limited. All rights reserved \nAbout this Course:\n\nThe ITIL® 4 Strategist: Direct\, Plan\, and Improve course is based on the ITIL® 4 Strategist Direct\, Plan\, and Improve candidate syllabus from AXELOS. The course provides the practical skills necessary to create a “learning and improving” IT organization\, with a strong and effective strategic direction. With the help of ITIL® 4 concepts and terminology\, activities\, exercises\, and examples included in the course\, you will acquire relevant knowledge to pass the ITIL® Strategist: Direct\, Plan\, and Improve certification exam.The ITIL® 4  Strategist: Direct\, Plan\, and Improve course is designed to provide practitioners with a practical and strategic method for planning and delivering continual improvement with necessary agility. It is aimed at managers of all levels involved in shaping direction and strategy or developing a continually improving team. It will cover both practical and strategic elements. Therefore\, it is the universal module\, that will be a key component of both\, ITIL® 4 Managing Professional and ITIL® 4 Strategic Leader streams.\n\n\nCourse Goals:\nAt the end of this course\, participants will be able to: \n\nUnderstand the key concepts of direction\, planning\, improvement.\nUnderstand the scope of what is to be directed and/or planned\, and know how to use key principles and methods of direction and planning in that context.\nUnderstand the role of GRC and know how to integrate the principles and methods into the service value system.\nUnderstand and know how to use the key principles and methods of continual improvement for all types of improvements.\nUnderstand and know how to use the key principles and methods of Communication and Organizational Change Management to direction\, planning and improvement.\nUnderstand and know how to use the key principles and methods of measurement and reporting in direction\, planning\, and improvement.\nUnderstand and know how to direct\, plan\, and improve value streams and practices.\n\n  \nITIL® 4 Strategist Direct Plan and Improve (DPI) Course – IT-Training.pro
URL:https://www.it-training.bg/event/itil-4-strategist-direct-plan-and-improve-dpi-2023-06-14/
LOCATION:IT-Training.pro\, Велчо Атанасов 12\, Sofia\, 1505\, България
CATEGORIES:ITIL,ITIL® 4 Strategist Direct Plan and Improve (DPI)
ORGANIZER;CN="IT-Training.pro":MAILTO:info@it-training.pro
END:VEVENT
BEGIN:VEVENT
DTSTART;TZID=Europe/Sofia:20220914T090000
DTEND;TZID=Europe/Sofia:20220916T170000
DTSTAMP:20260421T113924
CREATED:20220725T094140Z
LAST-MODIFIED:20221220T134647Z
UID:60278-1663146000-1663347600@www.it-training.bg
SUMMARY:ITIL® 4 Strategist Direct Plan and Improve (DPI)
DESCRIPTION:ITIL® 4 Strategist Direct Plan and Improve (DPI)\nITIL® is a registered trademark of AXELOS Limited\, used under permission of AXELOS Limited. The Swirl logo™ is a trademark of AXELOS Limited\, used under permission of AXELOS Limited. All rights reserved \nAbout this Course:\n\nThe ITIL® 4 Strategist: Direct\, Plan\, and Improve course is based on the ITIL® 4 Strategist Direct\, Plan\, and Improve candidate syllabus from AXELOS. The course provides the practical skills necessary to create a “learning and improving” IT organization\, with a strong and effective strategic direction. With the help of ITIL® 4 concepts and terminology\, activities\, exercises\, and examples included in the course\, you will acquire relevant knowledge to pass the ITIL® Strategist: Direct\, Plan\, and Improve certification exam.The ITIL® 4  Strategist: Direct\, Plan\, and Improve course is designed to provide practitioners with a practical and strategic method for planning and delivering continual improvement with necessary agility. It is aimed at managers of all levels involved in shaping direction and strategy or developing a continually improving team. It will cover both practical and strategic elements. Therefore\, it is the universal module\, that will be a key component of both\, ITIL® 4 Managing Professional and ITIL® 4 Strategic Leader streams.\n\n\nCourse Goals:\nAt the end of this course\, participants will be able to: \n\nUnderstand the key concepts of direction\, planning\, improvement.\nUnderstand the scope of what is to be directed and/or planned\, and know how to use key principles and methods of direction and planning in that context.\nUnderstand the role of GRC and know how to integrate the principles and methods into the service value system.\nUnderstand and know how to use the key principles and methods of continual improvement for all types of improvements.\nUnderstand and know how to use the key principles and methods of Communication and Organizational Change Management to direction\, planning and improvement.\nUnderstand and know how to use the key principles and methods of measurement and reporting in direction\, planning\, and improvement.\nUnderstand and know how to direct\, plan\, and improve value streams and practices.\n\n  \nITIL® 4 Strategist Direct Plan and Improve (DPI) Course – IT-Training.pro
URL:https://www.it-training.bg/event/itil-4-strategist-direct-plan-and-improve-dpi/
LOCATION:IT-Training.pro\, Велчо Атанасов 12\, Sofia\, 1505\, България
CATEGORIES:ITIL,ITIL® 4 Strategist Direct Plan and Improve (DPI)
ORGANIZER;CN="IT-Training.pro":MAILTO:info@it-training.pro
END:VEVENT
END:VCALENDAR